BEGIN:VCALENDAR
VERSION:2.0
PRODID:-//Sabre//Sabre VObject 4.5.8//EN
CALSCALE:GREGORIAN
BEGIN:VEVENT
UID:sabre-vobject-50e28376-d861-433c-820b-0e5091217fd3
DTSTAMP:20260421T130253Z
SUMMARY:Yoga
DESCRIPTION:Yoga suitable for all skill&nbsp\;levels with Kylie\n
X-ALT-DESC:FMTTYPE=text/html:<!DOCTYPE HTML PUBLIC "-//W3C//DTD HTML 3.2//E
 N"><HTML><p>Yoga suitable for all skill&nbsp\;levels with Kylie</p>\n</HTM
 L>
CREATED;TZID=Europe/Berlin:20181108T153303
URL;VALUE=URI:https://ansbach.armymwr.com/calendar/event
DTSTART;TZID=Europe/Berlin:20181105T180000
DTEND;TZID=Europe/Berlin:20181105T190000
SEQUENCE:0
END:VEVENT
BEGIN:VEVENT
UID:sabre-vobject-0d81cf8b-6fb9-454e-8e56-0ff1f59c69e8
DTSTAMP:20260421T130253Z
SUMMARY:Yoga
DESCRIPTION:Yoga suitable for all skill&nbsp\;levels with Kylie\n
X-ALT-DESC:FMTTYPE=text/html:<!DOCTYPE HTML PUBLIC "-//W3C//DTD HTML 3.2//E
 N"><HTML><p>Yoga suitable for all skill&nbsp\;levels with Kylie</p>\n</HTM
 L>
CREATED;TZID=Europe/Berlin:20181108T153303
URL;VALUE=URI:https://ansbach.armymwr.com/calendar/event
DTSTART;TZID=Europe/Berlin:20181107T084500
DTEND;TZID=Europe/Berlin:20181107T094500
SEQUENCE:1
END:VEVENT
END:VCALENDAR
