BEGIN:VCALENDAR
VERSION:2.0
PRODID:-//Sabre//Sabre VObject 4.5.8//EN
CALSCALE:GREGORIAN
BEGIN:VEVENT
UID:sabre-vobject-77a5eac8-905a-4345-a53b-098895060b58
DTSTAMP:20260421T103151Z
SUMMARY:Yoga
DESCRIPTION:Yoga suitable for all skill&nbsp\;levels with Jill\n
X-ALT-DESC:FMTTYPE=text/html:<!DOCTYPE HTML PUBLIC "-//W3C//DTD HTML 3.2//E
 N"><HTML><p>Yoga suitable for all skill&nbsp\;levels with Jill</p>\n</HTML
 >
CREATED;TZID=Europe/Berlin:20181024T151602
URL;VALUE=URI:https://ansbach.armymwr.com/calendar/event
DTSTART;TZID=Europe/Berlin:20181106T170000
DTEND;TZID=Europe/Berlin:20181106T180000
SEQUENCE:0
END:VEVENT
BEGIN:VEVENT
UID:sabre-vobject-58726768-b7c4-48a8-8c4b-be6fd2a69cdc
DTSTAMP:20260421T103151Z
SUMMARY:Yoga
DESCRIPTION:Yoga suitable for all skill&nbsp\;levels with Jill\n
X-ALT-DESC:FMTTYPE=text/html:<!DOCTYPE HTML PUBLIC "-//W3C//DTD HTML 3.2//E
 N"><HTML><p>Yoga suitable for all skill&nbsp\;levels with Jill</p>\n</HTML
 >
CREATED;TZID=Europe/Berlin:20181024T151602
URL;VALUE=URI:https://ansbach.armymwr.com/calendar/event
DTSTART;TZID=Europe/Berlin:20181107T180000
DTEND;TZID=Europe/Berlin:20181107T190000
SEQUENCE:1
END:VEVENT
END:VCALENDAR
