BEGIN:VCALENDAR
VERSION:2.0
PRODID:-//Sabre//Sabre VObject 4.5.8//EN
CALSCALE:GREGORIAN
BEGIN:VEVENT
UID:sabre-vobject-fe353dd6-3c05-4a68-988d-43494d739f48
DTSTAMP:20260421T130251Z
SUMMARY:Functional Fitness
DESCRIPTION:Functional Fitness with Liz\n
X-ALT-DESC:FMTTYPE=text/html:<!DOCTYPE HTML PUBLIC "-//W3C//DTD HTML 3.2//E
 N"><HTML><p>Functional Fitness with Liz</p>\n</HTML>
CREATED;TZID=Europe/Berlin:20181024T144529
URL;VALUE=URI:https://ansbach.armymwr.com/calendar/event
DTSTART;TZID=Europe/Berlin:20181107T090000
DTEND;TZID=Europe/Berlin:20181107T100000
SEQUENCE:0
END:VEVENT
END:VCALENDAR
