BEGIN:VCALENDAR
VERSION:2.0
PRODID:-//Sabre//Sabre VObject 4.5.8//EN
CALSCALE:GREGORIAN
BEGIN:VEVENT
UID:sabre-vobject-455f71d6-e7dc-4e63-ad6e-4ad671de8809
DTSTAMP:20260420T064757Z
SUMMARY:Dueling Pianos Holiday Tour 
DESCRIPTION:Armed Forces Entertainment is proud to offer the Dueling Pianos
  - Holiday Tour at the Von Steuben Community Center.\n
X-ALT-DESC:FMTTYPE=text/html:<!DOCTYPE HTML PUBLIC "-//W3C//DTD HTML 3.2//E
 N"><HTML><p>Armed Forces Entertainment is proud to offer the Dueling Piano
 s - Holiday Tour at the Von Steuben Community Center.</p>\n</HTML>
CREATED;TZID=Europe/Berlin:20181207T103734
URL;VALUE=URI:https://ansbach.armymwr.com/calendar/event
DTSTART;TZID=Europe/Berlin:20181211T190000
DTEND;TZID=Europe/Berlin:20181211T210000
SEQUENCE:0
END:VEVENT
END:VCALENDAR
