BEGIN:VCALENDAR
VERSION:2.0
PRODID:-//Sabre//Sabre VObject 4.5.8//EN
CALSCALE:GREGORIAN
BEGIN:VEVENT
UID:sabre-vobject-fe32c2c3-d310-46d9-ac3b-d85ada63184b
DTSTAMP:20260421T103143Z
SUMMARY:Stuttgart Christmas Market
DESCRIPTION:Explore beautiful Stuttgart&#39\;s Christmas Market with Outdoo
 r Recreation...\n
X-ALT-DESC:FMTTYPE=text/html:<!DOCTYPE HTML PUBLIC "-//W3C//DTD HTML 3.2//E
 N"><HTML><p>Explore beautiful Stuttgart&#39\;s Christmas Market with Outdo
 or Recreation...</p>\n</HTML>
CREATED;TZID=Europe/Berlin:20181120T121051
URL;VALUE=URI:https://ansbach.armymwr.com/calendar/event
DTSTART;TZID=Europe/Berlin:20181201T120000
DTEND;TZID=Europe/Berlin:20181201T220000
SEQUENCE:0
END:VEVENT
END:VCALENDAR
