BEGIN:VCALENDAR
VERSION:2.0
PRODID:-//Sabre//Sabre VObject 4.5.8//EN
CALSCALE:GREGORIAN
BEGIN:VEVENT
UID:sabre-vobject-805b1e57-71bc-4f6f-9ce4-9bd0f1125a08
DTSTAMP:20260423T083349Z
SUMMARY:Storck Holiday Tree Lighting
DESCRIPTION:Music\, Grilled Bratwurst\, Gl&uuml\;hwein &amp\; Fun!\n
X-ALT-DESC:FMTTYPE=text/html:<!DOCTYPE HTML PUBLIC "-//W3C//DTD HTML 3.2//E
 N"><HTML><p>Music\, Grilled Bratwurst\, Gl&uuml\;hwein &amp\; Fun!</p>\n</
 HTML>
CREATED;TZID=Europe/Berlin:20181120T125916
URL;VALUE=URI:https://ansbach.armymwr.com/calendar/event
DTSTART;TZID=Europe/Berlin:20181207T173000
DTEND;TZID=Europe/Berlin:20181207T200000
SEQUENCE:0
END:VEVENT
END:VCALENDAR
