BEGIN:VCALENDAR
VERSION:2.0
PRODID:-//Sabre//Sabre VObject 4.5.8//EN
CALSCALE:GREGORIAN
BEGIN:VEVENT
UID:sabre-vobject-b183644e-80eb-4f31-9b06-0048aa13793f
DTSTAMP:20260420T045658Z
SUMMARY:Billiards Tournament
DESCRIPTION:Come out the the Katterbach Recreation Center Annex and show of
 f your billiards skills...\n
X-ALT-DESC:FMTTYPE=text/html:<!DOCTYPE HTML PUBLIC "-//W3C//DTD HTML 3.2//E
 N"><HTML><p>Come out the the Katterbach Recreation Center Annex and show o
 ff your billiards skills...</p>\n</HTML>
CREATED;TZID=Europe/Berlin:20181123T154010
URL;VALUE=URI:https://ansbach.armymwr.com/calendar/event
DTSTART;TZID=Europe/Berlin:20181220T180000
DTEND;TZID=Europe/Berlin:20181220T210000
SEQUENCE:0
END:VEVENT
BEGIN:VEVENT
UID:sabre-vobject-44677b15-1b2b-463a-bc90-921c4cd141de
DTSTAMP:20260420T045658Z
SUMMARY:Billiards Tournament
DESCRIPTION:Come out the the Katterbach Recreation Center Annex and show of
 f your billiards skills...\n
X-ALT-DESC:FMTTYPE=text/html:<!DOCTYPE HTML PUBLIC "-//W3C//DTD HTML 3.2//E
 N"><HTML><p>Come out the the Katterbach Recreation Center Annex and show o
 ff your billiards skills...</p>\n</HTML>
CREATED;TZID=Europe/Berlin:20181123T154010
URL;VALUE=URI:https://ansbach.armymwr.com/calendar/event
DTSTART;TZID=Europe/Berlin:20181228T180000
DTEND;TZID=Europe/Berlin:20181228T210000
SEQUENCE:1
END:VEVENT
END:VCALENDAR
