BEGIN:VCALENDAR
VERSION:2.0
PRODID:-//Sabre//Sabre VObject 4.5.8//EN
CALSCALE:GREGORIAN
BEGIN:VEVENT
UID:sabre-vobject-06c5aef5-42e2-4e23-a668-635e1c2b9b5b
DTSTAMP:20260419T220911Z
SUMMARY:BOSS Trip to Würzburg
DESCRIPTION:Join us as we travel to the beautiful city of W&uuml\;rzburg...
 \n
X-ALT-DESC:FMTTYPE=text/html:<!DOCTYPE HTML PUBLIC "-//W3C//DTD HTML 3.2//E
 N"><HTML><p>Join us as we travel to the beautiful city of W&uuml\;rzburg..
 .</p>\n</HTML>
CREATED;TZID=Europe/Berlin:20181217T134718
URL;VALUE=URI:https://ansbach.armymwr.com/calendar/event
DTSTART;TZID=Europe/Berlin:20181217T130000
DTEND;TZID=Europe/Berlin:20181217T210000
SEQUENCE:0
END:VEVENT
BEGIN:VEVENT
UID:sabre-vobject-f5a8e4ad-9f7b-4398-8746-e4e97708347f
DTSTAMP:20260419T220911Z
SUMMARY:BOSS Trip to Würzburg
DESCRIPTION:Join us as we travel to the beautiful city of W&uuml\;rzburg...
 \n
X-ALT-DESC:FMTTYPE=text/html:<!DOCTYPE HTML PUBLIC "-//W3C//DTD HTML 3.2//E
 N"><HTML><p>Join us as we travel to the beautiful city of W&uuml\;rzburg..
 .</p>\n</HTML>
CREATED;TZID=Europe/Berlin:20181217T134718
URL;VALUE=URI:https://ansbach.armymwr.com/calendar/event
DTSTART;TZID=Europe/Berlin:20181227T130000
DTEND;TZID=Europe/Berlin:20181227T210000
SEQUENCE:1
END:VEVENT
END:VCALENDAR
