BEGIN:VCALENDAR
VERSION:2.0
PRODID:-//Sabre//Sabre VObject 4.5.8//EN
CALSCALE:GREGORIAN
BEGIN:VEVENT
UID:sabre-vobject-deb8ad18-7013-40ca-98d0-a38aa9de61b6
DTSTAMP:20260419T212641Z
SUMMARY:Basic German Class   
DESCRIPTION:Basic German Class\n
X-ALT-DESC:FMTTYPE=text/html:<!DOCTYPE HTML PUBLIC "-//W3C//DTD HTML 3.2//E
 N"><HTML><p>Basic German Class</p>\n</HTML>
CREATED;TZID=Europe/Berlin:20181213T121120
URL;VALUE=URI:https://ansbach.armymwr.com/calendar/event
DTSTART;TZID=Europe/Berlin:20190108T113000
DTEND;TZID=Europe/Berlin:20190108T123000
SEQUENCE:0
END:VEVENT
END:VCALENDAR
