BEGIN:VCALENDAR
VERSION:2.0
PRODID:-//Sabre//Sabre VObject 4.5.8//EN
CALSCALE:GREGORIAN
BEGIN:VEVENT
UID:sabre-vobject-9fae72dc-82fb-4f18-ba99-39cc073ad658
DTSTAMP:20260420T064756Z
SUMMARY:Call of Duty Tournament
DESCRIPTION:Got gaming skills?\n
X-ALT-DESC:FMTTYPE=text/html:<!DOCTYPE HTML PUBLIC "-//W3C//DTD HTML 3.2//E
 N"><HTML><p>Got gaming skills?</p>\n</HTML>
CREATED;TZID=Europe/Berlin:20181217T144828
URL;VALUE=URI:https://ansbach.armymwr.com/calendar/event
DTSTART;TZID=Europe/Berlin:20181229T180000
DTEND;TZID=Europe/Berlin:20181229T230000
SEQUENCE:0
END:VEVENT
END:VCALENDAR
