BEGIN:VCALENDAR
VERSION:2.0
PRODID:-//Sabre//Sabre VObject 4.5.8//EN
CALSCALE:GREGORIAN
BEGIN:VEVENT
UID:sabre-vobject-31ae06f0-aa50-4990-a0be-56eb18e76e78
DTSTAMP:20260419T152846Z
SUMMARY:New Year's Eve Bowling Party
DESCRIPTION:A family-friend New Year&#39\;s Eve party...\n
X-ALT-DESC:FMTTYPE=text/html:<!DOCTYPE HTML PUBLIC "-//W3C//DTD HTML 3.2//E
 N"><HTML><p>A family-friend New Year&#39\;s Eve party...</p>\n</HTML>
CREATED;TZID=Europe/Berlin:20181219T164657
URL;VALUE=URI:https://ansbach.armymwr.com/calendar/event
DTSTART;TZID=Europe/Berlin:20181231T180000
DTEND;TZID=Europe/Berlin:20181231T210000
SEQUENCE:0
END:VEVENT
END:VCALENDAR
