BEGIN:VCALENDAR
VERSION:2.0
PRODID:-//Sabre//Sabre VObject 4.5.8//EN
CALSCALE:GREGORIAN
BEGIN:VEVENT
UID:sabre-vobject-12c1b519-1220-4753-88fb-1734a0a60304
DTSTAMP:20260419T133740Z
SUMMARY:1-Day Ski/Snowboard Trip: Steinplatte
DESCRIPTION:Spend a day skiing in Steinplatte\, Germany...\n
X-ALT-DESC:FMTTYPE=text/html:<!DOCTYPE HTML PUBLIC "-//W3C//DTD HTML 3.2//E
 N"><HTML><p>Spend a day skiing in Steinplatte\, Germany...</p>\n</HTML>
CREATED;TZID=Europe/Berlin:20181217T165314
URL;VALUE=URI:https://ansbach.armymwr.com/calendar/event
DTSTART;TZID=Europe/Berlin:20190112T040000
DTEND;TZID=Europe/Berlin:20190112T220000
SEQUENCE:0
END:VEVENT
END:VCALENDAR
