BEGIN:VCALENDAR
VERSION:2.0
PRODID:-//Sabre//Sabre VObject 4.5.8//EN
CALSCALE:GREGORIAN
BEGIN:VEVENT
UID:sabre-vobject-a09b6e0f-7a2e-4db8-ad9c-17bb71642db2
DTSTAMP:20260422T151600Z
SUMMARY:Find-it Friday at Ansbach Library
DESCRIPTION:Solve our weekly riddle and win a prize!\n
X-ALT-DESC:FMTTYPE=text/html:<!DOCTYPE HTML PUBLIC "-//W3C//DTD HTML 3.2//E
 N"><HTML><p>Solve our weekly riddle and win a prize!</p>\n</HTML>
CREATED;TZID=Europe/Berlin:20240530T110355
URL;VALUE=URI:https://ansbach.armymwr.com/calendar/event
DTSTART;TZID=Europe/Berlin:20220107T150000
DTEND;TZID=Europe/Berlin:20220107T180000
SEQUENCE:0
END:VEVENT
END:VCALENDAR
