BEGIN:VCALENDAR
VERSION:2.0
PRODID:-//Sabre//Sabre VObject 4.5.8//EN
CALSCALE:GREGORIAN
BEGIN:VEVENT
UID:sabre-vobject-827d15e6-0031-4826-ba4c-0eeb6ce3fd12
DTSTAMP:20260426T044259Z
SUMMARY:3-Day Holiday Bazaar
DESCRIPTION:The 3-Day&nbsp\;Holiday Bazaar will take place at&nbsp\;the Kat
 terbach Fitness Center&nbsp\;(Bldg. 9033 on Katterbach Kaserne) Friday thr
 ough Sunday\,&nbsp\; Nov. 18 - 20.&nbsp\;\n\n&nbsp\;\n\n&nbsp\;\n\n&nbsp\;
 \n
X-ALT-DESC:FMTTYPE=text/html:<!DOCTYPE HTML PUBLIC "-//W3C//DTD HTML 3.2//E
 N"><HTML><p>The 3-Day&nbsp\;Holiday Bazaar will take place at&nbsp\;the Ka
 tterbach Fitness Center&nbsp\;(Bldg. 9033 on Katterbach Kaserne) Friday th
 rough Sunday\,&nbsp\; Nov. 18 - 20.&nbsp\;</p>\n\n<p>&nbsp\;</p>\n\n<p>&nb
 sp\;</p>\n\n<h3 style="text-align: center\;">&nbsp\;</h3>\n</HTML>
CREATED;TZID=Europe/Berlin:20221119T171153
URL;VALUE=URI:https://ansbach.armymwr.com/calendar/event
DTSTART;TZID=Europe/Berlin:20221118T110000
DTEND;TZID=Europe/Berlin:20221118T180000
SEQUENCE:0
END:VEVENT
BEGIN:VEVENT
UID:sabre-vobject-11f57c95-aa4f-44be-a372-b61a92b5424e
DTSTAMP:20260426T044259Z
SUMMARY:3-Day Holiday Bazaar
DESCRIPTION:The 3-Day&nbsp\;Holiday Bazaar will take place at&nbsp\;the Kat
 terbach Fitness Center&nbsp\;(Bldg. 9033 on Katterbach Kaserne) Friday thr
 ough Sunday\,&nbsp\; Nov. 18 - 20.&nbsp\;\n\n&nbsp\;\n\n&nbsp\;\n\n&nbsp\;
 \n
X-ALT-DESC:FMTTYPE=text/html:<!DOCTYPE HTML PUBLIC "-//W3C//DTD HTML 3.2//E
 N"><HTML><p>The 3-Day&nbsp\;Holiday Bazaar will take place at&nbsp\;the Ka
 tterbach Fitness Center&nbsp\;(Bldg. 9033 on Katterbach Kaserne) Friday th
 rough Sunday\,&nbsp\; Nov. 18 - 20.&nbsp\;</p>\n\n<p>&nbsp\;</p>\n\n<p>&nb
 sp\;</p>\n\n<h3 style="text-align: center\;">&nbsp\;</h3>\n</HTML>
CREATED;TZID=Europe/Berlin:20221119T171153
URL;VALUE=URI:https://ansbach.armymwr.com/calendar/event
DTSTART;TZID=Europe/Berlin:20221119T110000
DTEND;TZID=Europe/Berlin:20221119T180000
SEQUENCE:1
END:VEVENT
BEGIN:VEVENT
UID:sabre-vobject-56a61bfb-4cb4-4fe3-a815-afec3b34316c
DTSTAMP:20260426T044259Z
SUMMARY:3-Day Holiday Bazaar
DESCRIPTION:The 3-Day&nbsp\;Holiday Bazaar will take place at&nbsp\;the Kat
 terbach Fitness Center&nbsp\;(Bldg. 9033 on Katterbach Kaserne) Friday thr
 ough Sunday\,&nbsp\; Nov. 18 - 20.&nbsp\;\n\n&nbsp\;\n\n&nbsp\;\n\n&nbsp\;
 \n
X-ALT-DESC:FMTTYPE=text/html:<!DOCTYPE HTML PUBLIC "-//W3C//DTD HTML 3.2//E
 N"><HTML><p>The 3-Day&nbsp\;Holiday Bazaar will take place at&nbsp\;the Ka
 tterbach Fitness Center&nbsp\;(Bldg. 9033 on Katterbach Kaserne) Friday th
 rough Sunday\,&nbsp\; Nov. 18 - 20.&nbsp\;</p>\n\n<p>&nbsp\;</p>\n\n<p>&nb
 sp\;</p>\n\n<h3 style="text-align: center\;">&nbsp\;</h3>\n</HTML>
CREATED;TZID=Europe/Berlin:20221119T171153
URL;VALUE=URI:https://ansbach.armymwr.com/calendar/event
DTSTART;TZID=Europe/Berlin:20221120T120000
DTEND;TZID=Europe/Berlin:20221120T170000
SEQUENCE:2
END:VEVENT
END:VCALENDAR
