BEGIN:VCALENDAR
VERSION:2.0
PRODID:-//Sabre//Sabre VObject 4.5.8//EN
CALSCALE:GREGORIAN
BEGIN:VEVENT
UID:sabre-vobject-76f4a476-4208-422a-b7d4-92bda81b4d3d
DTSTAMP:20260425T233434Z
SUMMARY:Wiggles & Giggles Playgroup
DESCRIPTION:Join this informative playgroup designed for parents and their 
 children ages 0-3 years.\n
X-ALT-DESC:FMTTYPE=text/html:<!DOCTYPE HTML PUBLIC "-//W3C//DTD HTML 3.2//E
 N"><HTML><p>Join this informative playgroup designed for parents and their
  children ages 0-3 years.</p>\n</HTML>
CREATED;TZID=Europe/Berlin:20220926T174851
URL;VALUE=URI:https://ansbach.armymwr.com/calendar/event
DTSTART;TZID=Europe/Berlin:20221006T103000
DTEND;TZID=Europe/Berlin:20221006T120000
SEQUENCE:0
END:VEVENT
BEGIN:VEVENT
UID:sabre-vobject-6dbe9a50-4120-4c6c-99c6-dc680266f14c
DTSTAMP:20260425T233434Z
SUMMARY:Wiggles & Giggles Playgroup
DESCRIPTION:Join this informative playgroup designed for parents and their 
 children ages 0-3 years.\n
X-ALT-DESC:FMTTYPE=text/html:<!DOCTYPE HTML PUBLIC "-//W3C//DTD HTML 3.2//E
 N"><HTML><p>Join this informative playgroup designed for parents and their
  children ages 0-3 years.</p>\n</HTML>
CREATED;TZID=Europe/Berlin:20220926T174851
URL;VALUE=URI:https://ansbach.armymwr.com/calendar/event
DTSTART;TZID=Europe/Berlin:20221020T103000
DTEND;TZID=Europe/Berlin:20221020T120000
SEQUENCE:1
END:VEVENT
BEGIN:VEVENT
UID:sabre-vobject-1cf77154-965f-45ce-82b3-0a32d15e3bbd
DTSTAMP:20260425T233434Z
SUMMARY:Wiggles & Giggles Playgroup
DESCRIPTION:Join this informative playgroup designed for parents and their 
 children ages 0-3 years.\n
X-ALT-DESC:FMTTYPE=text/html:<!DOCTYPE HTML PUBLIC "-//W3C//DTD HTML 3.2//E
 N"><HTML><p>Join this informative playgroup designed for parents and their
  children ages 0-3 years.</p>\n</HTML>
CREATED;TZID=Europe/Berlin:20220926T174851
URL;VALUE=URI:https://ansbach.armymwr.com/calendar/event
DTSTART;TZID=Europe/Berlin:20221027T103000
DTEND;TZID=Europe/Berlin:20221027T120000
SEQUENCE:2
END:VEVENT
BEGIN:VEVENT
UID:sabre-vobject-9e01d952-97e2-44d8-bf03-4fb17bc938a5
DTSTAMP:20260425T233434Z
SUMMARY:Wiggles & Giggles Playgroup
DESCRIPTION:Join this informative playgroup designed for parents and their 
 children ages 0-3 years.\n
X-ALT-DESC:FMTTYPE=text/html:<!DOCTYPE HTML PUBLIC "-//W3C//DTD HTML 3.2//E
 N"><HTML><p>Join this informative playgroup designed for parents and their
  children ages 0-3 years.</p>\n</HTML>
CREATED;TZID=Europe/Berlin:20220926T174851
URL;VALUE=URI:https://ansbach.armymwr.com/calendar/event
DTSTART;TZID=Europe/Berlin:20221103T103000
DTEND;TZID=Europe/Berlin:20221103T120000
SEQUENCE:3
END:VEVENT
BEGIN:VEVENT
UID:sabre-vobject-6373bf05-6039-4854-9016-eae51782bad4
DTSTAMP:20260425T233434Z
SUMMARY:Wiggles & Giggles Playgroup
DESCRIPTION:Join this informative playgroup designed for parents and their 
 children ages 0-3 years.\n
X-ALT-DESC:FMTTYPE=text/html:<!DOCTYPE HTML PUBLIC "-//W3C//DTD HTML 3.2//E
 N"><HTML><p>Join this informative playgroup designed for parents and their
  children ages 0-3 years.</p>\n</HTML>
CREATED;TZID=Europe/Berlin:20220926T174851
URL;VALUE=URI:https://ansbach.armymwr.com/calendar/event
DTSTART;TZID=Europe/Berlin:20221117T103000
DTEND;TZID=Europe/Berlin:20221117T120000
SEQUENCE:4
END:VEVENT
BEGIN:VEVENT
UID:sabre-vobject-73d64635-bdb2-4783-bd36-3e2ae8d6221a
DTSTAMP:20260425T233434Z
SUMMARY:Wiggles & Giggles Playgroup
DESCRIPTION:Join this informative playgroup designed for parents and their 
 children ages 0-3 years.\n
X-ALT-DESC:FMTTYPE=text/html:<!DOCTYPE HTML PUBLIC "-//W3C//DTD HTML 3.2//E
 N"><HTML><p>Join this informative playgroup designed for parents and their
  children ages 0-3 years.</p>\n</HTML>
CREATED;TZID=Europe/Berlin:20220926T174851
URL;VALUE=URI:https://ansbach.armymwr.com/calendar/event
DTSTART;TZID=Europe/Berlin:20221013T103000
DTEND;TZID=Europe/Berlin:20221013T120000
SEQUENCE:5
END:VEVENT
BEGIN:VEVENT
UID:sabre-vobject-5ab0a055-ca59-4612-99ed-5dba928fd0b4
DTSTAMP:20260425T233434Z
SUMMARY:Wiggles & Giggles Playgroup
DESCRIPTION:Join this informative playgroup designed for parents and their 
 children ages 0-3 years.\n
X-ALT-DESC:FMTTYPE=text/html:<!DOCTYPE HTML PUBLIC "-//W3C//DTD HTML 3.2//E
 N"><HTML><p>Join this informative playgroup designed for parents and their
  children ages 0-3 years.</p>\n</HTML>
CREATED;TZID=Europe/Berlin:20220926T174851
URL;VALUE=URI:https://ansbach.armymwr.com/calendar/event
DTSTART;TZID=Europe/Berlin:20221110T103000
DTEND;TZID=Europe/Berlin:20221110T120000
SEQUENCE:6
END:VEVENT
END:VCALENDAR
