BEGIN:VCALENDAR
VERSION:2.0
PRODID:-//Sabre//Sabre VObject 4.5.8//EN
CALSCALE:GREGORIAN
BEGIN:VEVENT
UID:sabre-vobject-fc760203-618e-4a68-bebe-ec08be3d1290
DTSTAMP:20260426T014607Z
SUMMARY:Intro to USAJOBS
DESCRIPTION:Learn how to navigate the USAJOBS website and start applying fo
 r Federal jobs!\n
X-ALT-DESC:FMTTYPE=text/html:<!DOCTYPE HTML PUBLIC "-//W3C//DTD HTML 3.2//E
 N"><HTML><p>Learn how to navigate the USAJOBS website and start applying f
 or Federal jobs!</p>\n</HTML>
CREATED;TZID=Europe/Berlin:20220929T094820
URL;VALUE=URI:https://ansbach.armymwr.com/calendar/event
DTSTART;TZID=Europe/Berlin:20221006T153000
DTEND;TZID=Europe/Berlin:20221006T170000
SEQUENCE:0
END:VEVENT
BEGIN:VEVENT
UID:sabre-vobject-fa64d1eb-f785-458b-984c-5d446bd3f08b
DTSTAMP:20260426T014607Z
SUMMARY:Intro to USAJOBS
DESCRIPTION:Learn how to navigate the USAJOBS website and start applying fo
 r Federal jobs!\n
X-ALT-DESC:FMTTYPE=text/html:<!DOCTYPE HTML PUBLIC "-//W3C//DTD HTML 3.2//E
 N"><HTML><p>Learn how to navigate the USAJOBS website and start applying f
 or Federal jobs!</p>\n</HTML>
CREATED;TZID=Europe/Berlin:20220929T094820
URL;VALUE=URI:https://ansbach.armymwr.com/calendar/event
DTSTART;TZID=Europe/Berlin:20221108T090000
DTEND;TZID=Europe/Berlin:20221108T103000
SEQUENCE:1
END:VEVENT
BEGIN:VEVENT
UID:sabre-vobject-47c945e5-9b2f-4a71-9841-d0dae7c2b945
DTSTAMP:20260426T014607Z
SUMMARY:Intro to USAJOBS
DESCRIPTION:Learn how to navigate the USAJOBS website and start applying fo
 r Federal jobs!\n
X-ALT-DESC:FMTTYPE=text/html:<!DOCTYPE HTML PUBLIC "-//W3C//DTD HTML 3.2//E
 N"><HTML><p>Learn how to navigate the USAJOBS website and start applying f
 or Federal jobs!</p>\n</HTML>
CREATED;TZID=Europe/Berlin:20220929T094820
URL;VALUE=URI:https://ansbach.armymwr.com/calendar/event
DTSTART;TZID=Europe/Berlin:20221201T153000
DTEND;TZID=Europe/Berlin:20221201T170000
SEQUENCE:2
END:VEVENT
END:VCALENDAR
