BEGIN:VCALENDAR
VERSION:2.0
PRODID:-//Sabre//Sabre VObject 4.5.8//EN
CALSCALE:GREGORIAN
BEGIN:VEVENT
UID:sabre-vobject-1976a57e-e59f-493a-977b-79a20488487c
DTSTAMP:20260420T074510Z
SUMMARY:Unit Level 7v7 Soccer League - 2024 USAG Ansbach
DESCRIPTION:Outdoor Soccer 7v7 is here!\n
X-ALT-DESC:FMTTYPE=text/html:<!DOCTYPE HTML PUBLIC "-//W3C//DTD HTML 3.2//E
 N"><HTML><p>Outdoor Soccer 7v7 is here!</p>\n</HTML>
CREATED;TZID=Europe/Berlin:20240731T085047
URL;VALUE=URI:https://ansbach.armymwr.com/calendar/event
DTSTART;TZID=Europe/Berlin:20240619T180000
DTEND;TZID=Europe/Berlin:20240619T200000
SEQUENCE:0
END:VEVENT
END:VCALENDAR
