BEGIN:VCALENDAR
VERSION:2.0
PRODID:-//Sabre//Sabre VObject 4.5.8//EN
CALSCALE:GREGORIAN
BEGIN:VEVENT
UID:sabre-vobject-9a34fc7e-1e02-4fdc-a314-6d3d93694a1b
DTSTAMP:20260425T183807Z
SUMMARY:2023 IMCOM-E Varsity Volleyball Tournament
DESCRIPTION:Varsity Volleyball Tournament is back in Ansbach!\n
X-ALT-DESC:FMTTYPE=text/html:<!DOCTYPE HTML PUBLIC "-//W3C//DTD HTML 3.2//E
 N"><HTML><p>Varsity Volleyball Tournament is back in Ansbach!</p>\n</HTML>
CREATED;TZID=Europe/Berlin:20221028T000058
URL;VALUE=URI:https://ansbach.armymwr.com/calendar/event
DTSTART;TZID=Europe/Berlin:20230324T100000
DTEND;TZID=Europe/Berlin:20230326T170000
SEQUENCE:0
END:VEVENT
END:VCALENDAR
