BEGIN:VCALENDAR
VERSION:2.0
PRODID:-//Sabre//Sabre VObject 4.5.8//EN
CALSCALE:GREGORIAN
BEGIN:VEVENT
UID:sabre-vobject-40555a72-84f1-4b26-ae3d-d8cd2801d5bd
DTSTAMP:20260422T151602Z
SUMMARY:Garmisch Ski and Snowboard Trip
DESCRIPTION:One day ski and snowboard trip in Garmisch\, Germany\n
X-ALT-DESC:FMTTYPE=text/html:<!DOCTYPE HTML PUBLIC "-//W3C//DTD HTML 3.2//E
 N"><HTML><p>One day ski and snowboard trip in Garmisch\, Germany</p>\n</HT
 ML>
CREATED;TZID=Europe/Berlin:20221027T143105
URL;VALUE=URI:https://ansbach.armymwr.com/calendar/event
DTSTART;TZID=Europe/Berlin:20230204T050000
DTEND;TZID=Europe/Berlin:20230204T220000
SEQUENCE:0
END:VEVENT
END:VCALENDAR
