BEGIN:VCALENDAR
VERSION:2.0
PRODID:-//Sabre//Sabre VObject 4.5.8//EN
CALSCALE:GREGORIAN
BEGIN:VEVENT
UID:sabre-vobject-c51d0d98-de5f-4d9f-bd69-fe2352a69796
DTSTAMP:20260426T014609Z
SUMMARY:Auditions for "A Christmas Carol"
DESCRIPTION:Auditions for &quot\;A Christmas Carol\,&quot\; by Charles Dick
 ens.&nbsp\; Be prepared to sing\, move\, and speak.\n
X-ALT-DESC:FMTTYPE=text/html:<!DOCTYPE HTML PUBLIC "-//W3C//DTD HTML 3.2//E
 N"><HTML><p>Auditions for &quot\;A Christmas Carol\,&quot\; by Charles Dic
 kens.&nbsp\; Be prepared to sing\, move\, and speak.</p>\n</HTML>
CREATED;TZID=Europe/Berlin:20221108T125030
URL;VALUE=URI:https://ansbach.armymwr.com/calendar/event
DTSTART;TZID=Europe/Berlin:20221108T190000
DTEND;TZID=Europe/Berlin:20221109T210000
SEQUENCE:0
END:VEVENT
END:VCALENDAR
