BEGIN:VCALENDAR
VERSION:2.0
PRODID:-//Sabre//Sabre VObject 4.5.8//EN
CALSCALE:GREGORIAN
BEGIN:VEVENT
UID:sabre-vobject-5004401e-2983-4600-a800-4d0ebd824839
DTSTAMP:20260422T151602Z
SUMMARY:Wiggles & Giggles Playgroup - Katterbach (ACS)
DESCRIPTION:Join the Army Community Service (ACS) New Parent Support Progra
 m (NPSP) for this informative playgroup held every Thursday at the ACS Pla
 yroom on Katterbach.\n
X-ALT-DESC:FMTTYPE=text/html:<!DOCTYPE HTML PUBLIC "-//W3C//DTD HTML 3.2//E
 N"><HTML><p>Join the Army Community Service (ACS) New Parent Support Progr
 am (NPSP) for this informative playgroup held every Thursday at the ACS Pl
 ayroom on Katterbach.</p>\n</HTML>
CREATED;TZID=Europe/Berlin:20230928T115744
URL;VALUE=URI:https://ansbach.armymwr.com/calendar/event
DTSTART;TZID=Europe/Berlin:20230105T103000
DTEND;TZID=Europe/Berlin:20230105T120000
SEQUENCE:0
END:VEVENT
END:VCALENDAR
