BEGIN:VCALENDAR
VERSION:2.0
PRODID:-//Sabre//Sabre VObject 4.5.8//EN
CALSCALE:GREGORIAN
BEGIN:VEVENT
UID:sabre-vobject-39c5e308-70d2-40ae-8653-be7a61a7632a
DTSTAMP:20260422T162513Z
SUMMARY:Basic German
DESCRIPTION:Learn the basics of the German language during your lunch break
 !\n
X-ALT-DESC:FMTTYPE=text/html:<!DOCTYPE HTML PUBLIC "-//W3C//DTD HTML 3.2//E
 N"><HTML><p>Learn the basics of the German language during your lunch brea
 k!</p>\n</HTML>
CREATED;TZID=Europe/Berlin:20230103T165330
URL;VALUE=URI:https://ansbach.armymwr.com/calendar/event
DTSTART;TZID=Europe/Berlin:20230110T120000
DTEND;TZID=Europe/Berlin:20230110T130000
SEQUENCE:0
END:VEVENT
END:VCALENDAR
