BEGIN:VCALENDAR
VERSION:2.0
PRODID:-//Sabre//Sabre VObject 4.5.8//EN
CALSCALE:GREGORIAN
BEGIN:VEVENT
UID:sabre-vobject-bc1db54c-302b-4c78-827a-9630bc1e994a
DTSTAMP:20260421T103144Z
SUMMARY:Intro to USAJOBS with ACS
DESCRIPTION:Learn how to setup your USAJOBS profile and start applying for 
 federal jobs with help from our Army Community Service (ACS) Employment Re
 adiness Program!&nbsp\;\n
X-ALT-DESC:FMTTYPE=text/html:<!DOCTYPE HTML PUBLIC "-//W3C//DTD HTML 3.2//E
 N"><HTML><p>Learn how to setup your USAJOBS profile and start applying for
  federal jobs with help from our Army Community Service (ACS) Employment R
 eadiness Program!&nbsp\;</p>\n</HTML>
CREATED;TZID=Europe/Berlin:20240407T152505
URL;VALUE=URI:https://ansbach.armymwr.com/calendar/event
DTSTART;TZID=Europe/Berlin:20230620T090000
DTEND;TZID=Europe/Berlin:20230620T110000
SEQUENCE:0
END:VEVENT
BEGIN:VEVENT
UID:sabre-vobject-fe171208-4fed-4572-ba33-0895ba123e88
DTSTAMP:20260421T103144Z
SUMMARY:Intro to USAJOBS with ACS
DESCRIPTION:Learn how to setup your USAJOBS profile and start applying for 
 federal jobs with help from our Army Community Service (ACS) Employment Re
 adiness Program!&nbsp\;\n
X-ALT-DESC:FMTTYPE=text/html:<!DOCTYPE HTML PUBLIC "-//W3C//DTD HTML 3.2//E
 N"><HTML><p>Learn how to setup your USAJOBS profile and start applying for
  federal jobs with help from our Army Community Service (ACS) Employment R
 eadiness Program!&nbsp\;</p>\n</HTML>
CREATED;TZID=Europe/Berlin:20240407T152505
URL;VALUE=URI:https://ansbach.armymwr.com/calendar/event
DTSTART;TZID=Europe/Berlin:20230822T090000
DTEND;TZID=Europe/Berlin:20230822T110000
SEQUENCE:1
END:VEVENT
BEGIN:VEVENT
UID:sabre-vobject-b4a58900-7254-49ee-bc1b-12b9890e2b42
DTSTAMP:20260421T103144Z
SUMMARY:Intro to USAJOBS with ACS
DESCRIPTION:Learn how to setup your USAJOBS profile and start applying for 
 federal jobs with help from our Army Community Service (ACS) Employment Re
 adiness Program!&nbsp\;\n
X-ALT-DESC:FMTTYPE=text/html:<!DOCTYPE HTML PUBLIC "-//W3C//DTD HTML 3.2//E
 N"><HTML><p>Learn how to setup your USAJOBS profile and start applying for
  federal jobs with help from our Army Community Service (ACS) Employment R
 eadiness Program!&nbsp\;</p>\n</HTML>
CREATED;TZID=Europe/Berlin:20240407T152505
URL;VALUE=URI:https://ansbach.armymwr.com/calendar/event
DTSTART;TZID=Europe/Berlin:20231003T140000
DTEND;TZID=Europe/Berlin:20231003T160000
SEQUENCE:2
END:VEVENT
BEGIN:VEVENT
UID:sabre-vobject-eb81e204-5c23-4374-8eae-90c975ff6c35
DTSTAMP:20260421T103144Z
SUMMARY:Intro to USAJOBS with ACS
DESCRIPTION:Learn how to setup your USAJOBS profile and start applying for 
 federal jobs with help from our Army Community Service (ACS) Employment Re
 adiness Program!&nbsp\;\n
X-ALT-DESC:FMTTYPE=text/html:<!DOCTYPE HTML PUBLIC "-//W3C//DTD HTML 3.2//E
 N"><HTML><p>Learn how to setup your USAJOBS profile and start applying for
  federal jobs with help from our Army Community Service (ACS) Employment R
 eadiness Program!&nbsp\;</p>\n</HTML>
CREATED;TZID=Europe/Berlin:20240407T152505
URL;VALUE=URI:https://ansbach.armymwr.com/calendar/event
DTSTART;TZID=Europe/Berlin:20231205T140000
DTEND;TZID=Europe/Berlin:20231205T160000
SEQUENCE:3
END:VEVENT
BEGIN:VEVENT
UID:sabre-vobject-3c4a39e9-30e2-43cc-8e15-1bc34efdc137
DTSTAMP:20260421T103144Z
SUMMARY:Intro to USAJOBS with ACS
DESCRIPTION:Learn how to setup your USAJOBS profile and start applying for 
 federal jobs with help from our Army Community Service (ACS) Employment Re
 adiness Program!&nbsp\;\n
X-ALT-DESC:FMTTYPE=text/html:<!DOCTYPE HTML PUBLIC "-//W3C//DTD HTML 3.2//E
 N"><HTML><p>Learn how to setup your USAJOBS profile and start applying for
  federal jobs with help from our Army Community Service (ACS) Employment R
 eadiness Program!&nbsp\;</p>\n</HTML>
CREATED;TZID=Europe/Berlin:20240407T152505
URL;VALUE=URI:https://ansbach.armymwr.com/calendar/event
DTSTART;TZID=Europe/Berlin:20240305T140000
DTEND;TZID=Europe/Berlin:20240305T160000
SEQUENCE:4
END:VEVENT
BEGIN:VEVENT
UID:sabre-vobject-ce0b9984-60d8-4908-9cc0-e298489961d6
DTSTAMP:20260421T103144Z
SUMMARY:Intro to USAJOBS with ACS
DESCRIPTION:Learn how to setup your USAJOBS profile and start applying for 
 federal jobs with help from our Army Community Service (ACS) Employment Re
 adiness Program!&nbsp\;\n
X-ALT-DESC:FMTTYPE=text/html:<!DOCTYPE HTML PUBLIC "-//W3C//DTD HTML 3.2//E
 N"><HTML><p>Learn how to setup your USAJOBS profile and start applying for
  federal jobs with help from our Army Community Service (ACS) Employment R
 eadiness Program!&nbsp\;</p>\n</HTML>
CREATED;TZID=Europe/Berlin:20240407T152505
URL;VALUE=URI:https://ansbach.armymwr.com/calendar/event
DTSTART;TZID=Europe/Berlin:20240516T090000
DTEND;TZID=Europe/Berlin:20240516T110000
SEQUENCE:5
END:VEVENT
BEGIN:VEVENT
UID:sabre-vobject-e3668dcd-cb39-4261-9c02-3d4ff9dc8a02
DTSTAMP:20260421T103144Z
SUMMARY:Intro to USAJOBS with ACS
DESCRIPTION:Learn how to setup your USAJOBS profile and start applying for 
 federal jobs with help from our Army Community Service (ACS) Employment Re
 adiness Program!&nbsp\;\n
X-ALT-DESC:FMTTYPE=text/html:<!DOCTYPE HTML PUBLIC "-//W3C//DTD HTML 3.2//E
 N"><HTML><p>Learn how to setup your USAJOBS profile and start applying for
  federal jobs with help from our Army Community Service (ACS) Employment R
 eadiness Program!&nbsp\;</p>\n</HTML>
CREATED;TZID=Europe/Berlin:20240407T152505
URL;VALUE=URI:https://ansbach.armymwr.com/calendar/event
DTSTART;TZID=Europe/Berlin:20240718T090000
DTEND;TZID=Europe/Berlin:20240718T110000
SEQUENCE:6
END:VEVENT
END:VCALENDAR
