BEGIN:VCALENDAR
VERSION:2.0
PRODID:-//Sabre//Sabre VObject 4.5.8//EN
CALSCALE:GREGORIAN
BEGIN:VEVENT
UID:sabre-vobject-72161957-495c-476c-bfc3-e39e1b07f38b
DTSTAMP:20260425T165231Z
SUMMARY:Taste of Italy (Four-Day Trip)
DESCRIPTION:Experience the Italian culture and charm!\n
X-ALT-DESC:FMTTYPE=text/html:<!DOCTYPE HTML PUBLIC "-//W3C//DTD HTML 3.2//E
 N"><HTML><p>Experience the Italian culture and charm!</p>\n</HTML>
CREATED;TZID=Europe/Berlin:20231128T124827
URL;VALUE=URI:https://ansbach.armymwr.com/calendar/event
DTSTART;TZID=Europe/Berlin:20240412T230000
DTEND;TZID=Europe/Berlin:20240415T233000
SEQUENCE:0
END:VEVENT
END:VCALENDAR
