BEGIN:VCALENDAR
VERSION:2.0
PRODID:-//Sabre//Sabre VObject 4.5.8//EN
CALSCALE:GREGORIAN
BEGIN:VEVENT
UID:sabre-vobject-e3b0dcca-770e-473a-aaee-ef97ad619fd3
DTSTAMP:20260419T173214Z
SUMMARY:Tuesday Evening Cycling with ODR
DESCRIPTION:Join ODR Every Tuesday for an Evening Cycling Tour around the A
 nsbach area!!\n
X-ALT-DESC:FMTTYPE=text/html:<!DOCTYPE HTML PUBLIC "-//W3C//DTD HTML 3.2//E
 N"><HTML><p>Join ODR Every Tuesday for an Evening Cycling Tour around the 
 Ansbach area!!</p>\n</HTML>
CREATED;TZID=Europe/Berlin:20240328T133630
URL;VALUE=URI:https://ansbach.armymwr.com/calendar/event
DTSTART;TZID=Europe/Berlin:20240507T173000
DTEND;TZID=Europe/Berlin:20240507T213000
SEQUENCE:0
END:VEVENT
END:VCALENDAR
