BEGIN:VCALENDAR
VERSION:2.0
PRODID:-//Sabre//Sabre VObject 4.5.8//EN
CALSCALE:GREGORIAN
BEGIN:VEVENT
UID:sabre-vobject-46fe8d0a-f4c2-43b1-936b-c7eff0216f69
DTSTAMP:20260422T162511Z
SUMMARY:Paris-Normandy Overnight 
DESCRIPTION:See the beaches of Normandy and explore the City of Paris!!\n
X-ALT-DESC:FMTTYPE=text/html:<!DOCTYPE HTML PUBLIC "-//W3C//DTD HTML 3.2//E
 N"><HTML><p>See the beaches of Normandy and explore the City of Paris!!</p
 >\n</HTML>
CREATED;TZID=Europe/Berlin:20240417T165921
URL;VALUE=URI:https://ansbach.armymwr.com/calendar/event
DTSTART;TZID=Europe/Berlin:20240613T220000
DTEND;TZID=Europe/Berlin:20240617T110000
SEQUENCE:0
END:VEVENT
END:VCALENDAR
