BEGIN:VCALENDAR
VERSION:2.0
PRODID:-//Sabre//Sabre VObject 4.5.8//EN
CALSCALE:GREGORIAN
BEGIN:VEVENT
UID:sabre-vobject-e2ee4458-9fa8-4f5a-9d26-1ed3ba73c7f3
DTSTAMP:20260424T094031Z
SUMMARY:"Wear Blue" Friday with ACS
DESCRIPTION:Wear Blue every Friday in April and show your support for preve
 nting child abuse and neglect!\n
X-ALT-DESC:FMTTYPE=text/html:<!DOCTYPE HTML PUBLIC "-//W3C//DTD HTML 3.2//E
 N"><HTML><p>Wear Blue every Friday in April and show your support for prev
 enting child abuse and neglect!</p>\n</HTML>
CREATED;TZID=Europe/Berlin:20240407T145451
URL;VALUE=URI:https://ansbach.armymwr.com/calendar/event
DTSTART;TZID=Europe/Berlin:20240405T000000
DTEND;TZID=Europe/Berlin:20240405T235959
SEQUENCE:0
END:VEVENT
BEGIN:VEVENT
UID:sabre-vobject-43d5cfc5-82a8-4596-b4fc-668978ca801d
DTSTAMP:20260424T094031Z
SUMMARY:"Wear Blue" Friday with ACS
DESCRIPTION:Wear Blue every Friday in April and show your support for preve
 nting child abuse and neglect!\n
X-ALT-DESC:FMTTYPE=text/html:<!DOCTYPE HTML PUBLIC "-//W3C//DTD HTML 3.2//E
 N"><HTML><p>Wear Blue every Friday in April and show your support for prev
 enting child abuse and neglect!</p>\n</HTML>
CREATED;TZID=Europe/Berlin:20240407T145451
URL;VALUE=URI:https://ansbach.armymwr.com/calendar/event
DTSTART;TZID=Europe/Berlin:20240412T000000
DTEND;TZID=Europe/Berlin:20240412T235959
SEQUENCE:1
END:VEVENT
BEGIN:VEVENT
UID:sabre-vobject-949ac3a7-f989-43e6-b8bb-ae42d32b996d
DTSTAMP:20260424T094031Z
SUMMARY:"Wear Blue" Friday with ACS
DESCRIPTION:Wear Blue every Friday in April and show your support for preve
 nting child abuse and neglect!\n
X-ALT-DESC:FMTTYPE=text/html:<!DOCTYPE HTML PUBLIC "-//W3C//DTD HTML 3.2//E
 N"><HTML><p>Wear Blue every Friday in April and show your support for prev
 enting child abuse and neglect!</p>\n</HTML>
CREATED;TZID=Europe/Berlin:20240407T145451
URL;VALUE=URI:https://ansbach.armymwr.com/calendar/event
DTSTART;TZID=Europe/Berlin:20240419T000000
DTEND;TZID=Europe/Berlin:20240419T235959
SEQUENCE:2
END:VEVENT
BEGIN:VEVENT
UID:sabre-vobject-37247dd1-5a72-4e01-9885-54ded03c0e40
DTSTAMP:20260424T094031Z
SUMMARY:"Wear Blue" Friday with ACS
DESCRIPTION:Wear Blue every Friday in April and show your support for preve
 nting child abuse and neglect!\n
X-ALT-DESC:FMTTYPE=text/html:<!DOCTYPE HTML PUBLIC "-//W3C//DTD HTML 3.2//E
 N"><HTML><p>Wear Blue every Friday in April and show your support for prev
 enting child abuse and neglect!</p>\n</HTML>
CREATED;TZID=Europe/Berlin:20240407T145451
URL;VALUE=URI:https://ansbach.armymwr.com/calendar/event
DTSTART;TZID=Europe/Berlin:20240426T000000
DTEND;TZID=Europe/Berlin:20240426T235959
SEQUENCE:3
END:VEVENT
END:VCALENDAR
