BEGIN:VCALENDAR
VERSION:2.0
PRODID:-//Sabre//Sabre VObject 4.5.8//EN
CALSCALE:GREGORIAN
BEGIN:VEVENT
UID:sabre-vobject-0e1a5a2f-a9f5-4ddd-a2e8-f75336c2bdbb
DTSTAMP:20260424T094030Z
SUMMARY:Car Seat Safety Event with ACS 
DESCRIPTION:Make sure your kids are safely secured and transported at this 
 car seat safety event!&nbsp\;\n
X-ALT-DESC:FMTTYPE=text/html:<!DOCTYPE HTML PUBLIC "-//W3C//DTD HTML 3.2//E
 N"><HTML><p>Make sure your kids are safely secured and transported at this
  car seat safety event!&nbsp\;</p>\n</HTML>
CREATED;TZID=Europe/Berlin:20240407T150453
URL;VALUE=URI:https://ansbach.armymwr.com/calendar/event
DTSTART;TZID=Europe/Berlin:20240425T113000
DTEND;TZID=Europe/Berlin:20240425T130000
SEQUENCE:0
END:VEVENT
END:VCALENDAR
