BEGIN:VCALENDAR
VERSION:2.0
PRODID:-//Sabre//Sabre VObject 4.5.8//EN
CALSCALE:GREGORIAN
BEGIN:VEVENT
UID:sabre-vobject-23892b4d-cbaa-4ead-a1dd-4742162cf67b
DTSTAMP:20260424T143751Z
SUMMARY:Volunteer Recognition Ceremony
DESCRIPTION:This event will highlight our amazing volunteer Superheroes thr
 oughout USAG Ansbach.&nbsp\;\n
X-ALT-DESC:FMTTYPE=text/html:<!DOCTYPE HTML PUBLIC "-//W3C//DTD HTML 3.2//E
 N"><HTML><p>This event will highlight our amazing volunteer Superheroes th
 roughout USAG Ansbach.&nbsp\;</p>\n</HTML>
CREATED;TZID=Europe/Berlin:20240407T162548
URL;VALUE=URI:https://ansbach.armymwr.com/calendar/event
DTSTART;TZID=Europe/Berlin:20240418T183000
DTEND;TZID=Europe/Berlin:20240418T203000
SEQUENCE:0
END:VEVENT
END:VCALENDAR
