BEGIN:VCALENDAR
VERSION:2.0
PRODID:-//Sabre//Sabre VObject 4.5.8//EN
CALSCALE:GREGORIAN
BEGIN:VEVENT
UID:sabre-vobject-5e134802-13c8-451f-8083-b38b50c36e83
DTSTAMP:20260420T211106Z
SUMMARY:Upcycled T-shirt Bag
DESCRIPTION:Ready to mix it up?\n
X-ALT-DESC:FMTTYPE=text/html:<!DOCTYPE HTML PUBLIC "-//W3C//DTD HTML 3.2//E
 N"><HTML><p>Ready to mix it up?</p>\n</HTML>
CREATED;TZID=Europe/Berlin:20240530T120726
URL;VALUE=URI:https://ansbach.armymwr.com/calendar/event
DTSTART;TZID=Europe/Berlin:20240724T140000
DTEND;TZID=Europe/Berlin:20240724T170000
SEQUENCE:0
END:VEVENT
END:VCALENDAR
