BEGIN:VCALENDAR
VERSION:2.0
PRODID:-//Sabre//Sabre VObject 4.5.8//EN
CALSCALE:GREGORIAN
BEGIN:VEVENT
UID:sabre-vobject-5d4d4528-5bb3-4579-8356-96a4c48bf2f8
DTSTAMP:20260420T154654Z
SUMMARY:August CYS Babysitter Course
DESCRIPTION:
X-ALT-DESC:FMTTYPE=text/html:<!DOCTYPE HTML PUBLIC "-//W3C//DTD HTML 3.2//E
 N"><HTML></HTML>
CREATED;TZID=Europe/Berlin:20240617T145247
URL;VALUE=URI:https://ansbach.armymwr.com/calendar/event
DTSTART;TZID=Europe/Berlin:20240805T090000
DTEND;TZID=Europe/Berlin:20240805T140000
SEQUENCE:0
END:VEVENT
BEGIN:VEVENT
UID:sabre-vobject-dc8526b6-a7de-4b65-8f42-57801c4d429a
DTSTAMP:20260420T154654Z
SUMMARY:August CYS Babysitter Course
DESCRIPTION:
X-ALT-DESC:FMTTYPE=text/html:<!DOCTYPE HTML PUBLIC "-//W3C//DTD HTML 3.2//E
 N"><HTML></HTML>
CREATED;TZID=Europe/Berlin:20240617T145247
URL;VALUE=URI:https://ansbach.armymwr.com/calendar/event
DTSTART;TZID=Europe/Berlin:20240807T090000
DTEND;TZID=Europe/Berlin:20240807T140000
SEQUENCE:1
END:VEVENT
BEGIN:VEVENT
UID:sabre-vobject-c9a58e52-aa26-4b6a-ad75-33d18db1303b
DTSTAMP:20260420T154654Z
SUMMARY:August CYS Babysitter Course
DESCRIPTION:
X-ALT-DESC:FMTTYPE=text/html:<!DOCTYPE HTML PUBLIC "-//W3C//DTD HTML 3.2//E
 N"><HTML></HTML>
CREATED;TZID=Europe/Berlin:20240617T145247
URL;VALUE=URI:https://ansbach.armymwr.com/calendar/event
DTSTART;TZID=Europe/Berlin:20240808T090000
DTEND;TZID=Europe/Berlin:20240808T140000
SEQUENCE:2
END:VEVENT
BEGIN:VEVENT
UID:sabre-vobject-7b9f04b6-ff7d-4ec1-9841-a9f3404aeb8d
DTSTAMP:20260420T154654Z
SUMMARY:August CYS Babysitter Course
DESCRIPTION:
X-ALT-DESC:FMTTYPE=text/html:<!DOCTYPE HTML PUBLIC "-//W3C//DTD HTML 3.2//E
 N"><HTML></HTML>
CREATED;TZID=Europe/Berlin:20240617T145247
URL;VALUE=URI:https://ansbach.armymwr.com/calendar/event
DTSTART;TZID=Europe/Berlin:20240809T090000
DTEND;TZID=Europe/Berlin:20240809T140000
SEQUENCE:3
END:VEVENT
END:VCALENDAR
