BEGIN:VCALENDAR
VERSION:2.0
PRODID:-//Sabre//Sabre VObject 4.5.8//EN
CALSCALE:GREGORIAN
BEGIN:VEVENT
UID:sabre-vobject-c3b1af46-e155-47a0-b2bc-a6cf4e3f1614
DTSTAMP:20260421T071729Z
SUMMARY:I challenge you to...
DESCRIPTION:Can you complete our Friday challenge?\n
X-ALT-DESC:FMTTYPE=text/html:<!DOCTYPE HTML PUBLIC "-//W3C//DTD HTML 3.2//E
 N"><HTML><p>Can you complete our Friday challenge?</p>\n</HTML>
CREATED;TZID=Europe/Berlin:20240705T140442
URL;VALUE=URI:https://ansbach.armymwr.com/calendar/event
DTSTART;TZID=Europe/Berlin:20240719T000000
DTEND;TZID=Europe/Berlin:20240719T000000
SEQUENCE:0
END:VEVENT
END:VCALENDAR
