BEGIN:VCALENDAR
VERSION:2.0
PRODID:-//Sabre//Sabre VObject 4.5.8//EN
CALSCALE:GREGORIAN
BEGIN:VEVENT
UID:sabre-vobject-73780665-6668-4682-bc72-a2102d7efa7a
DTSTAMP:20260419T173214Z
SUMMARY:Comedy Show at the Von Steuben Biergarten
DESCRIPTION:Join us for the Covering Bases Comedy Show at the Von Steuben B
 iergarten Night!\n
X-ALT-DESC:FMTTYPE=text/html:<!DOCTYPE HTML PUBLIC "-//W3C//DTD HTML 3.2//E
 N"><HTML><p>Join us for the Covering Bases Comedy Show at the Von Steuben 
 Biergarten Night!</p>\n</HTML>
CREATED;TZID=Europe/Berlin:20240722T102434
URL;VALUE=URI:https://ansbach.armymwr.com/calendar/event
DTSTART;TZID=Europe/Berlin:20240822T190000
DTEND;TZID=Europe/Berlin:20240822T210000
SEQUENCE:0
END:VEVENT
END:VCALENDAR
